BEGIN:VCALENDAR
VERSION:2.0
PRODID:-//ni4kids - ECPv6.15.20//NONSGML v1.0//EN
CALSCALE:GREGORIAN
METHOD:PUBLISH
X-WR-CALNAME:ni4kids
X-ORIGINAL-URL:https://ni4kids.com
X-WR-CALDESC:Events for ni4kids
REFRESH-INTERVAL;VALUE=DURATION:PT1H
X-Robots-Tag:noindex
X-PUBLISHED-TTL:PT1H
BEGIN:VTIMEZONE
TZID:Europe/London
BEGIN:DAYLIGHT
TZOFFSETFROM:+0000
TZOFFSETTO:+0100
TZNAME:BST
DTSTART:20250330T010000
END:DAYLIGHT
BEGIN:STANDARD
TZOFFSETFROM:+0100
TZOFFSETTO:+0000
TZNAME:GMT
DTSTART:20251026T010000
END:STANDARD
BEGIN:DAYLIGHT
TZOFFSETFROM:+0000
TZOFFSETTO:+0100
TZNAME:BST
DTSTART:20260329T010000
END:DAYLIGHT
BEGIN:STANDARD
TZOFFSETFROM:+0100
TZOFFSETTO:+0000
TZNAME:GMT
DTSTART:20261025T010000
END:STANDARD
BEGIN:DAYLIGHT
TZOFFSETFROM:+0000
TZOFFSETTO:+0100
TZNAME:BST
DTSTART:20270328T010000
END:DAYLIGHT
BEGIN:STANDARD
TZOFFSETFROM:+0100
TZOFFSETTO:+0000
TZNAME:GMT
DTSTART:20271031T010000
END:STANDARD
END:VTIMEZONE
BEGIN:VEVENT
DTSTART;TZID=Europe/London:20260418T113000
DTEND;TZID=Europe/London:20260418T130000
DTSTAMP:20260424T210544
CREATED:20260415T091935Z
LAST-MODIFIED:20260415T091935Z
UID:38965-1776511800-1776517200@ni4kids.com
SUMMARY:Bumblebee Walks at Rowallane Garden
DESCRIPTION:When: Sat 18 Apr\n\nWhere: Rowallane Garden\, Saintfield\n\nCost: Normal admission\n\nTime: 11:30am-1pm\n\nExpert John will explain how to identify bumblebees and record their activity around the stunning garden at Rowallane. \nDon’t miss your opportunity to ask a Bee expert all the questions you’ve ever wanted to know! \nW: nationaltrust.org.uk\n\nVisit the event website here
URL:https://ni4kids.com/whatson/bumblebee-walks-at-rowallane-garden/
CATEGORIES:Outdoor
ATTACH;FMTTYPE=image/webp:https://ni4kids.com/wp-content/uploads/2026/04/rowallane-in-spring.jpg.webp
END:VEVENT
END:VCALENDAR