BEGIN:VCALENDAR
VERSION:2.0
PRODID:-//ni4kids - ECPv6.15.20//NONSGML v1.0//EN
CALSCALE:GREGORIAN
METHOD:PUBLISH
X-WR-CALNAME:ni4kids
X-ORIGINAL-URL:https://ni4kids.com
X-WR-CALDESC:Events for ni4kids
REFRESH-INTERVAL;VALUE=DURATION:PT1H
X-Robots-Tag:noindex
X-PUBLISHED-TTL:PT1H
BEGIN:VTIMEZONE
TZID:Europe/London
BEGIN:DAYLIGHT
TZOFFSETFROM:+0000
TZOFFSETTO:+0100
TZNAME:BST
DTSTART:20250330T010000
END:DAYLIGHT
BEGIN:STANDARD
TZOFFSETFROM:+0100
TZOFFSETTO:+0000
TZNAME:GMT
DTSTART:20251026T010000
END:STANDARD
BEGIN:DAYLIGHT
TZOFFSETFROM:+0000
TZOFFSETTO:+0100
TZNAME:BST
DTSTART:20260329T010000
END:DAYLIGHT
BEGIN:STANDARD
TZOFFSETFROM:+0100
TZOFFSETTO:+0000
TZNAME:GMT
DTSTART:20261025T010000
END:STANDARD
BEGIN:DAYLIGHT
TZOFFSETFROM:+0000
TZOFFSETTO:+0100
TZNAME:BST
DTSTART:20270328T010000
END:DAYLIGHT
BEGIN:STANDARD
TZOFFSETFROM:+0100
TZOFFSETTO:+0000
TZNAME:GMT
DTSTART:20271031T010000
END:STANDARD
END:VTIMEZONE
BEGIN:VEVENT
DTSTART;TZID=Europe/London:20260418T100000
DTEND;TZID=Europe/London:20260418T110000
DTSTAMP:20260421T191412
CREATED:20260415T093846Z
LAST-MODIFIED:20260415T093846Z
UID:38975-1776506400-1776510000@ni4kids.com
SUMMARY:Chamber Babies Concert
DESCRIPTION:When: Sat 18 Apr \nWhere: Island Arts Centre\, Lisburn \nCost: £9 \nTime: 10am \nWalk\, sway\, crawl\, roll or chill to live classical music performed by professional musicians. Guaranteed to engage and enchant or even soothe little ones to sleep! Up to 18 months. \nW: islandartscentre.com \nVisit the event website here
URL:https://ni4kids.com/whatson/chamber-babies-concert/
CATEGORIES:Music
ATTACH;FMTTYPE=image/jpeg:https://ni4kids.com/wp-content/uploads/2026/04/2ad21be2-b560-45cb-9120-113eb7806903.jpg
END:VEVENT
END:VCALENDAR