BEGIN:VCALENDAR
VERSION:2.0
PRODID:-//ni4kids - ECPv6.15.20//NONSGML v1.0//EN
CALSCALE:GREGORIAN
METHOD:PUBLISH
X-WR-CALNAME:ni4kids
X-ORIGINAL-URL:https://ni4kids.com
X-WR-CALDESC:Events for ni4kids
REFRESH-INTERVAL;VALUE=DURATION:PT1H
X-Robots-Tag:noindex
X-PUBLISHED-TTL:PT1H
BEGIN:VTIMEZONE
TZID:Europe/London
BEGIN:DAYLIGHT
TZOFFSETFROM:+0000
TZOFFSETTO:+0100
TZNAME:BST
DTSTART:20240331T010000
END:DAYLIGHT
BEGIN:STANDARD
TZOFFSETFROM:+0100
TZOFFSETTO:+0000
TZNAME:GMT
DTSTART:20241027T010000
END:STANDARD
BEGIN:DAYLIGHT
TZOFFSETFROM:+0000
TZOFFSETTO:+0100
TZNAME:BST
DTSTART:20250330T010000
END:DAYLIGHT
BEGIN:STANDARD
TZOFFSETFROM:+0100
TZOFFSETTO:+0000
TZNAME:GMT
DTSTART:20251026T010000
END:STANDARD
BEGIN:DAYLIGHT
TZOFFSETFROM:+0000
TZOFFSETTO:+0100
TZNAME:BST
DTSTART:20260329T010000
END:DAYLIGHT
BEGIN:STANDARD
TZOFFSETFROM:+0100
TZOFFSETTO:+0000
TZNAME:GMT
DTSTART:20261025T010000
END:STANDARD
END:VTIMEZONE
BEGIN:VEVENT
DTSTART;TZID=Europe/London:20250118T140000
DTEND;TZID=Europe/London:20250118T153000
DTSTAMP:20260422T145224
CREATED:20250114T104511Z
LAST-MODIFIED:20250114T104511Z
UID:35437-1737208800-1737214200@ni4kids.com
SUMMARY:Crafty Kids Workshops
DESCRIPTION:When: Sat 18 & Sat 25 Jan\nWhere: Danann Crafts\, Lurgan\nCost: £7.50\nTime: 2pm – 3.30pm \nCrafty Kids Workshops are full of fun arts and crafts activities that encourage the development of fine motor and social skills.\nW: dananncrafts.com  \nVisit the event website here
URL:https://ni4kids.com/whatson/crafty-kids-workshops/2025-01-18/
CATEGORIES:Creative
ATTACH;FMTTYPE=image/png:https://ni4kids.com/wp-content/uploads/2025/01/Screenshot-2025-01-14-at-10.42.08.png
END:VEVENT
END:VCALENDAR