BEGIN:VCALENDAR
VERSION:2.0
PRODID:-//ni4kids - ECPv6.15.20//NONSGML v1.0//EN
CALSCALE:GREGORIAN
METHOD:PUBLISH
X-WR-CALNAME:ni4kids
X-ORIGINAL-URL:https://ni4kids.com
X-WR-CALDESC:Events for ni4kids
REFRESH-INTERVAL;VALUE=DURATION:PT1H
X-Robots-Tag:noindex
X-PUBLISHED-TTL:PT1H
BEGIN:VTIMEZONE
TZID:Europe/London
BEGIN:DAYLIGHT
TZOFFSETFROM:+0000
TZOFFSETTO:+0100
TZNAME:BST
DTSTART:20240331T010000
END:DAYLIGHT
BEGIN:STANDARD
TZOFFSETFROM:+0100
TZOFFSETTO:+0000
TZNAME:GMT
DTSTART:20241027T010000
END:STANDARD
BEGIN:DAYLIGHT
TZOFFSETFROM:+0000
TZOFFSETTO:+0100
TZNAME:BST
DTSTART:20250330T010000
END:DAYLIGHT
BEGIN:STANDARD
TZOFFSETFROM:+0100
TZOFFSETTO:+0000
TZNAME:GMT
DTSTART:20251026T010000
END:STANDARD
BEGIN:DAYLIGHT
TZOFFSETFROM:+0000
TZOFFSETTO:+0100
TZNAME:BST
DTSTART:20260329T010000
END:DAYLIGHT
BEGIN:STANDARD
TZOFFSETFROM:+0100
TZOFFSETTO:+0000
TZNAME:GMT
DTSTART:20261025T010000
END:STANDARD
END:VTIMEZONE
BEGIN:VEVENT
DTSTART;TZID=Europe/London:20250718T110000
DTEND;TZID=Europe/London:20250718T150000
DTSTAMP:20260420T173318
CREATED:20250707T094138Z
LAST-MODIFIED:20250707T094138Z
UID:36615-1752836400-1752850800@ni4kids.com
SUMMARY:Games on the Roof (The 153rd Open Special)
DESCRIPTION:When: Mon 14 & Fri 18 Jul \nWhere: Giant’s Causeway \nCost: Normal Admission \nTime: 11am-3pm\nPut your skills to the test with our Chip and Stick Golf Game – a fun and engaging activity for all ages. Take turns chipping the ball and earn points for the longest shot! \nW: nationaltrust.org.uk \nVisit the event website here
URL:https://ni4kids.com/whatson/games-on-the-roof-the-153rd-open-special/2025-07-18/
CATEGORIES:Outdoor,Special events,Sports
ATTACH;FMTTYPE=image/jpeg:https://ni4kids.com/wp-content/uploads/2025/04/visitor-basalt-columns-giants-causeway-northern-ireland1274673.jpg
END:VEVENT
END:VCALENDAR