BEGIN:VCALENDAR
VERSION:2.0
PRODID:-//ni4kids - ECPv6.15.20//NONSGML v1.0//EN
CALSCALE:GREGORIAN
METHOD:PUBLISH
X-WR-CALNAME:ni4kids
X-ORIGINAL-URL:https://ni4kids.com
X-WR-CALDESC:Events for ni4kids
REFRESH-INTERVAL;VALUE=DURATION:PT1H
X-Robots-Tag:noindex
X-PUBLISHED-TTL:PT1H
BEGIN:VTIMEZONE
TZID:Europe/London
BEGIN:DAYLIGHT
TZOFFSETFROM:+0000
TZOFFSETTO:+0100
TZNAME:BST
DTSTART:20240331T010000
END:DAYLIGHT
BEGIN:STANDARD
TZOFFSETFROM:+0100
TZOFFSETTO:+0000
TZNAME:GMT
DTSTART:20241027T010000
END:STANDARD
BEGIN:DAYLIGHT
TZOFFSETFROM:+0000
TZOFFSETTO:+0100
TZNAME:BST
DTSTART:20250330T010000
END:DAYLIGHT
BEGIN:STANDARD
TZOFFSETFROM:+0100
TZOFFSETTO:+0000
TZNAME:GMT
DTSTART:20251026T010000
END:STANDARD
BEGIN:DAYLIGHT
TZOFFSETFROM:+0000
TZOFFSETTO:+0100
TZNAME:BST
DTSTART:20260329T010000
END:DAYLIGHT
BEGIN:STANDARD
TZOFFSETFROM:+0100
TZOFFSETTO:+0000
TZNAME:GMT
DTSTART:20261025T010000
END:STANDARD
END:VTIMEZONE
BEGIN:VEVENT
DTSTART;TZID=Europe/London:20250817T100000
DTEND;TZID=Europe/London:20250817T180000
DTSTAMP:20260421T230510
CREATED:20250707T092243Z
LAST-MODIFIED:20250707T092243Z
UID:36599-1755424800-1755453600@ni4kids.com
SUMMARY:Kids Activities and Tasty Treats in Royal Hillsborough & Moira Village
DESCRIPTION:Join us at the Royal Hillsborough Farmers Market on Saturday 26th July from 10am-4pm for a great family day out. You and the kids will love exploring all the stalls along ‘The Dark Walk’ at Hillsborough Fort. There’ll be plenty of local produce\, artisan food from across Northern Ireland\, and lots of treats for the kids. With arts\, crafts and live music\, there is something for all the family to enjoy. \nBring the whole family to Moira Speciality Food Fair in Moira Demesne on Saturday 16th and Sunday 17th August from 10am-6pm. This weekend-long festival includes a speciality food hall\, chef demos\, expert talks\, and family fun. Plus you’ll be able to get delicious food from the gourmet food trucks while enjoying live music acts. There’s plenty of fun activities for the kids too. \nFor more information\, see visitlisburncastlereagh.com 
URL:https://ni4kids.com/whatson/kids-activities-and-tasty-treats/2025-08-17/
CATEGORIES:Food,Free,Outdoor
ATTACH;FMTTYPE=image/jpeg:https://ni4kids.com/wp-content/uploads/2025/07/Lisburn-Council-Moira-Food-Fair-Moira-Demesne36-scaled.jpg
END:VEVENT
END:VCALENDAR