BEGIN:VCALENDAR
VERSION:2.0
PRODID:-//ni4kids - ECPv6.15.20//NONSGML v1.0//EN
CALSCALE:GREGORIAN
METHOD:PUBLISH
X-WR-CALNAME:ni4kids
X-ORIGINAL-URL:https://ni4kids.com
X-WR-CALDESC:Events for ni4kids
REFRESH-INTERVAL;VALUE=DURATION:PT1H
X-Robots-Tag:noindex
X-PUBLISHED-TTL:PT1H
BEGIN:VTIMEZONE
TZID:Europe/London
BEGIN:DAYLIGHT
TZOFFSETFROM:+0000
TZOFFSETTO:+0100
TZNAME:BST
DTSTART:20250330T010000
END:DAYLIGHT
BEGIN:STANDARD
TZOFFSETFROM:+0100
TZOFFSETTO:+0000
TZNAME:GMT
DTSTART:20251026T010000
END:STANDARD
BEGIN:DAYLIGHT
TZOFFSETFROM:+0000
TZOFFSETTO:+0100
TZNAME:BST
DTSTART:20260329T010000
END:DAYLIGHT
BEGIN:STANDARD
TZOFFSETFROM:+0100
TZOFFSETTO:+0000
TZNAME:GMT
DTSTART:20261025T010000
END:STANDARD
BEGIN:DAYLIGHT
TZOFFSETFROM:+0000
TZOFFSETTO:+0100
TZNAME:BST
DTSTART:20270328T010000
END:DAYLIGHT
BEGIN:STANDARD
TZOFFSETFROM:+0100
TZOFFSETTO:+0000
TZNAME:GMT
DTSTART:20271031T010000
END:STANDARD
END:VTIMEZONE
BEGIN:VEVENT
DTSTART;TZID=Europe/London:20260509T103000
DTEND;TZID=Europe/London:20260509T120000
DTSTAMP:20260421T160747
CREATED:20260415T113202Z
LAST-MODIFIED:20260415T113202Z
UID:39005-1778322600-1778328000@ni4kids.com
SUMMARY:Kids Bath Bomb Workshop
DESCRIPTION:When: Sat 9 May\nWhere: Millennium Court\, Portadown\nCost: £15\nTime: 10:30am-12pm\nIn this spring kids bath bomb workshop they’ll learn how to mix\, mould\, and decorate their very own fizzy bath bombs using child‑friendly ingredients\, bright colours\, and playful scents. Age 7+\nW: millenniumcourt.co.uk\nVisit the event website here
URL:https://ni4kids.com/whatson/kids-bath-bomb-workshop/
CATEGORIES:Workshops
ATTACH;FMTTYPE=image/webp:https://ni4kids.com/wp-content/uploads/2026/04/image.webp
END:VEVENT
END:VCALENDAR