BEGIN:VCALENDAR
VERSION:2.0
PRODID:-//ni4kids - ECPv6.15.20//NONSGML v1.0//EN
CALSCALE:GREGORIAN
METHOD:PUBLISH
X-WR-CALNAME:ni4kids
X-ORIGINAL-URL:https://ni4kids.com
X-WR-CALDESC:Events for ni4kids
REFRESH-INTERVAL;VALUE=DURATION:PT1H
X-Robots-Tag:noindex
X-PUBLISHED-TTL:PT1H
BEGIN:VTIMEZONE
TZID:Europe/London
BEGIN:DAYLIGHT
TZOFFSETFROM:+0000
TZOFFSETTO:+0100
TZNAME:BST
DTSTART:20250330T010000
END:DAYLIGHT
BEGIN:STANDARD
TZOFFSETFROM:+0100
TZOFFSETTO:+0000
TZNAME:GMT
DTSTART:20251026T010000
END:STANDARD
BEGIN:DAYLIGHT
TZOFFSETFROM:+0000
TZOFFSETTO:+0100
TZNAME:BST
DTSTART:20260329T010000
END:DAYLIGHT
BEGIN:STANDARD
TZOFFSETFROM:+0100
TZOFFSETTO:+0000
TZNAME:GMT
DTSTART:20261025T010000
END:STANDARD
BEGIN:DAYLIGHT
TZOFFSETFROM:+0000
TZOFFSETTO:+0100
TZNAME:BST
DTSTART:20270328T010000
END:DAYLIGHT
BEGIN:STANDARD
TZOFFSETFROM:+0100
TZOFFSETTO:+0000
TZNAME:GMT
DTSTART:20271031T010000
END:STANDARD
END:VTIMEZONE
BEGIN:VEVENT
DTSTART;TZID=Europe/London:20260418T100000
DTEND;TZID=Europe/London:20260418T130000
DTSTAMP:20260421T111641
CREATED:20260415T092328Z
LAST-MODIFIED:20260415T092328Z
UID:38969-1776506400-1776517200@ni4kids.com
SUMMARY:Sewing Without Labels
DESCRIPTION:When: Marketplace Theatre\, Armagh\nWhere: Sat 18 Apr\nCost: £25\nTime: 10am-1pm\nJoin Angeline Murphy of BBC’s Great British Sewing Bee and sewing blogger for this creative sewing class which teaches your child how to make an item of clothing for themselves from scratch as they learn basic sewing skills without limits.\nW: visitarmagh.com\nVisit the event website here
URL:https://ni4kids.com/whatson/sewing-without-labels/
CATEGORIES:Workshops
END:VEVENT
END:VCALENDAR