BEGIN:VCALENDAR
VERSION:2.0
PRODID:-//ni4kids - ECPv6.15.20//NONSGML v1.0//EN
CALSCALE:GREGORIAN
METHOD:PUBLISH
X-WR-CALNAME:ni4kids
X-ORIGINAL-URL:https://ni4kids.com
X-WR-CALDESC:Events for ni4kids
REFRESH-INTERVAL;VALUE=DURATION:PT1H
X-Robots-Tag:noindex
X-PUBLISHED-TTL:PT1H
BEGIN:VTIMEZONE
TZID:Europe/London
BEGIN:DAYLIGHT
TZOFFSETFROM:+0000
TZOFFSETTO:+0100
TZNAME:BST
DTSTART:20250330T010000
END:DAYLIGHT
BEGIN:STANDARD
TZOFFSETFROM:+0100
TZOFFSETTO:+0000
TZNAME:GMT
DTSTART:20251026T010000
END:STANDARD
BEGIN:DAYLIGHT
TZOFFSETFROM:+0000
TZOFFSETTO:+0100
TZNAME:BST
DTSTART:20260329T010000
END:DAYLIGHT
BEGIN:STANDARD
TZOFFSETFROM:+0100
TZOFFSETTO:+0000
TZNAME:GMT
DTSTART:20261025T010000
END:STANDARD
BEGIN:DAYLIGHT
TZOFFSETFROM:+0000
TZOFFSETTO:+0100
TZNAME:BST
DTSTART:20270328T010000
END:DAYLIGHT
BEGIN:STANDARD
TZOFFSETFROM:+0100
TZOFFSETTO:+0000
TZNAME:GMT
DTSTART:20271031T010000
END:STANDARD
END:VTIMEZONE
BEGIN:VEVENT
DTSTART;TZID=Europe/London:20260328T100000
DTEND;TZID=Europe/London:20260328T120000
DTSTAMP:20260422T064024
CREATED:20260318T114718Z
LAST-MODIFIED:20260318T114718Z
UID:38739-1774692000-1774699200@ni4kids.com
SUMMARY:Spring Flowers – Big\, Bold & Beautiful
DESCRIPTION:When: Sat 28 Mar\nWhere: The Market Place Theatre\, Armagh\nCost: £12\nTime: 10am-12pm\nGet ready to go supersized with this joyful\, hands-on workshop where you will create giant\, colourful spring flowers that will never wilt!\nW: visitarmagh.com\nVisit the event website here
URL:https://ni4kids.com/whatson/spring-flowers-big-bold-beautiful/
CATEGORIES:Arts & Crafts,Workshops
ATTACH;FMTTYPE=image/jpeg:https://ni4kids.com/wp-content/uploads/2026/03/3905fa0533a430e723ee4962289d196c7a552a9e72e5dad8c078d344de567cda.jpeg
END:VEVENT
END:VCALENDAR